BEGIN:VCALENDAR
VERSION:2.0
PRODID:-//wp-events-plugin.com//7.2.3.1//EN
TZID:America/New_York
X-WR-TIMEZONE:America/New_York
BEGIN:VEVENT
UID:375@maearlycollege.com
DTSTART;TZID=America/New_York:20240719T100000
DTEND;TZID=America/New_York:20240719T110000
DTSTAMP:20240701T163402Z
URL:https://www.maearlycollege.com/events/dese-office-hours-6-2024-07-19/
SUMMARY:DESE Office Hours
DESCRIPTION:DESE hosts office hours for all Early College Designation Appli
 cants. Office hours are offered twice weekly: Monday afternoons from 2:00-
 3:00 p.m. and Friday mornings from 10:00-11:00 a.m.\n\nClick HERE to sign 
 up for a designated 15-minute time slot.\n\n&nbsp\;
CATEGORIES:Early College Designation Applicants
END:VEVENT
BEGIN:VTIMEZONE
TZID:America/New_York
X-LIC-LOCATION:America/New_York
BEGIN:DAYLIGHT
DTSTART:20240310T030000
TZOFFSETFROM:-0500
TZOFFSETTO:-0400
TZNAME:EDT
END:DAYLIGHT
END:VTIMEZONE
END:VCALENDAR